BEGIN:VCALENDAR
VERSION:2.0
PRODID:-//Asociación México Japonesa del Noreste - ECPv5.16.2.1//NONSGML v1.0//EN
CALSCALE:GREGORIAN
METHOD:PUBLISH
X-WR-CALNAME:Asociación México Japonesa del Noreste
X-ORIGINAL-URL:https://amexicojapon.com
X-WR-CALDESC:Eventos para Asociación México Japonesa del Noreste
REFRESH-INTERVAL;VALUE=DURATION:PT1H
X-Robots-Tag:noindex
X-PUBLISHED-TTL:PT1H
BEGIN:VTIMEZONE
TZID:America/Chicago
BEGIN:DAYLIGHT
TZOFFSETFROM:-0600
TZOFFSETTO:-0500
TZNAME:CDT
DTSTART:20210314T080000
END:DAYLIGHT
BEGIN:STANDARD
TZOFFSETFROM:-0500
TZOFFSETTO:-0600
TZNAME:CST
DTSTART:20211107T070000
END:STANDARD
TZID:UTC
BEGIN:STANDARD
TZOFFSETFROM:+0000
TZOFFSETTO:+0000
TZNAME:UTC
DTSTART:20200101T000000
END:STANDARD
END:VTIMEZONE
BEGIN:VEVENT
DTSTART;TZID=America/Chicago:20210117T090000
DTEND;TZID=America/Chicago:20210117T183000
DTSTAMP:20260424T222122
CREATED:20210105T000626Z
LAST-MODIFIED:20210116T230218Z
UID:670-1610874000-1610908200@amexicojapon.com
SUMMARY:Nichiboku Matsuri
DESCRIPTION:Los invitamos el domingo 17 de enero a nuestro evento online «Nichiboku Matsuri». \n\n\nTendremos conferencias acerca de cómo planear un viaje a Japón\, intercambios académicos en Japón\, trabajar en Japón y más.\nA través de Facebook Live y Youtube Live.
URL:https://amexicojapon.com/event/nichiboku-matsuri/
ATTACH;FMTTYPE=image/jpeg:https://amexicojapon.com/wp-content/uploads/2021/01/nichiboku.jpg
ORGANIZER;CN="Asociaci%C3%B3n%20M%C3%A9xico%20Japonesa%2C%20A.C.":MAILTO:contacto@amexicojapon.com
END:VEVENT
BEGIN:VEVENT
DTSTART;TZID=UTC:20201219T100000
DTEND;TZID=UTC:20201219T120000
DTSTAMP:20260424T222122
CREATED:20201230T181531Z
LAST-MODIFIED:20201230T181531Z
UID:616-1608372000-1608379200@amexicojapon.com
SUMMARY:Mochitsuki 2020
DESCRIPTION:Evento virtual «Mochitsuki» en colaboración con el restaurante Ikkyu Valle.
URL:https://amexicojapon.com/event/mochitsuki-2020/
ATTACH;FMTTYPE=image/jpeg:https://amexicojapon.com/wp-content/uploads/2020/12/mochitsuki.jpg
ORGANIZER;CN="Asociaci%C3%B3n%20M%C3%A9xico%20Japonesa%2C%20A.C.":MAILTO:contacto@amexicojapon.com
END:VEVENT
BEGIN:VEVENT
DTSTART;TZID=UTC:20201127T183000
DTEND;TZID=UTC:20201127T193000
DTSTAMP:20260424T222122
CREATED:20201204T043407Z
LAST-MODIFIED:20201209T215956Z
UID:472-1606501800-1606505400@amexicojapon.com
SUMMARY:Noche Animasiva
DESCRIPTION:Plática online con la artista japonesa ShiShi Yamazaki y muestra del proyecto de animación organizado por FJMEX
URL:https://amexicojapon.com/event/noche-animasiva/
ATTACH;FMTTYPE=image/jpeg:https://amexicojapon.com/wp-content/uploads/2020/12/evento3.jpg
END:VEVENT
BEGIN:VEVENT
DTSTART;VALUE=DATE:20201127
DTEND;VALUE=DATE:20201130
DTSTAMP:20260424T222122
CREATED:20201204T043046Z
LAST-MODIFIED:20201209T215957Z
UID:470-1606435200-1606694399@amexicojapon.com
SUMMARY:Akimatsuri 2020
DESCRIPTION:Festival online sobre Japón\, organizado por la Asociación México Japonesa\, A.C.
URL:https://amexicojapon.com/event/akimatsuri-2020/
ATTACH;FMTTYPE=image/jpeg:https://amexicojapon.com/wp-content/uploads/2020/12/evento1.jpg
ORGANIZER;CN="Asociaci%C3%B3n%20M%C3%A9xico%20Japonesa%2C%20A.C.":MAILTO:contacto@amexicojapon.com
END:VEVENT
BEGIN:VEVENT
DTSTART;VALUE=DATE:20201101
DTEND;VALUE=DATE:20201201
DTSTAMP:20260424T222122
CREATED:20201204T043124Z
LAST-MODIFIED:20201209T215958Z
UID:471-1604188800-1606780799@amexicojapon.com
SUMMARY:Nippon Matsuri
DESCRIPTION:Festival online sobre Japón\, organizado por la Embajada de Japón en México.
URL:https://amexicojapon.com/event/nippon-matsuri/
ATTACH;FMTTYPE=image/jpeg:https://amexicojapon.com/wp-content/uploads/2020/12/evento2.jpg
ORGANIZER;CN="Asociaci%C3%B3n%20M%C3%A9xico%20Japonesa%2C%20A.C.":MAILTO:contacto@amexicojapon.com
END:VEVENT
BEGIN:VEVENT
DTSTART;TZID=UTC:20201003T150000
DTEND;TZID=UTC:20201003T160000
DTSTAMP:20260424T222122
CREATED:20201204T043930Z
LAST-MODIFIED:20201209T215959Z
UID:479-1601737200-1601740800@amexicojapon.com
SUMMARY:Animex Online
DESCRIPTION:Aprende saludos en japonés y a hacer onigiris con la AMJN
URL:https://amexicojapon.com/event/animex-online/
ATTACH;FMTTYPE=image/jpeg:https://amexicojapon.com/wp-content/uploads/2020/12/evento4.jpg
END:VEVENT
BEGIN:VEVENT
DTSTART;VALUE=DATE:20200314
DTEND;VALUE=DATE:20200316
DTSTAMP:20260424T222122
CREATED:20201231T172832Z
LAST-MODIFIED:20201231T172832Z
UID:651-1584144000-1584316799@amexicojapon.com
SUMMARY:II Simpósio de Organizadores de Festivais do Japão
DESCRIPTION:A segunda edição doevento\, organizado em conjunto pelo Consulado e pelo Kenren\, tem o intuito de unir as entidades nipo-brasileiras em prol da divulgação da cultura japonesa\, captando o valor de mercado dos eventos realizados pela comunidade nikkei e aumentando as oportunidades para troca de informações e conhecimentos entre os organizadores.
URL:https://amexicojapon.com/event/ii-simposio-de-organizadores-de-festivais-do-japao/
LOCATION:São Paulo Expo Exhibition & Convention Cente\, Rodovia dos Imigrantes\, km 1\,5\, São Paul\, Brasil
ATTACH;FMTTYPE=image/jpeg:https://amexicojapon.com/wp-content/uploads/2020/12/simposio.jpg
END:VEVENT
END:VCALENDAR